BEGIN:VCALENDAR
VERSION:2.0
PRODID:-//Sacramento Top 10 - ECPv6.15.11//NONSGML v1.0//EN
CALSCALE:GREGORIAN
METHOD:PUBLISH
X-ORIGINAL-URL:https://www.sacramentotop10.com
X-WR-CALDESC:Events for Sacramento Top 10
REFRESH-INTERVAL;VALUE=DURATION:PT1H
X-Robots-Tag:noindex
X-PUBLISHED-TTL:PT1H
BEGIN:VTIMEZONE
TZID:America/Los_Angeles
BEGIN:DAYLIGHT
TZOFFSETFROM:-0800
TZOFFSETTO:-0700
TZNAME:PDT
DTSTART:20240310T100000
END:DAYLIGHT
BEGIN:STANDARD
TZOFFSETFROM:-0700
TZOFFSETTO:-0800
TZNAME:PST
DTSTART:20241103T090000
END:STANDARD
BEGIN:DAYLIGHT
TZOFFSETFROM:-0800
TZOFFSETTO:-0700
TZNAME:PDT
DTSTART:20250309T100000
END:DAYLIGHT
BEGIN:STANDARD
TZOFFSETFROM:-0700
TZOFFSETTO:-0800
TZNAME:PST
DTSTART:20251102T090000
END:STANDARD
BEGIN:DAYLIGHT
TZOFFSETFROM:-0800
TZOFFSETTO:-0700
TZNAME:PDT
DTSTART:20260308T100000
END:DAYLIGHT
BEGIN:STANDARD
TZOFFSETFROM:-0700
TZOFFSETTO:-0800
TZNAME:PST
DTSTART:20261101T090000
END:STANDARD
END:VTIMEZONE
BEGIN:VEVENT
DTSTART;TZID=America/Los_Angeles:20251015T190000
DTEND;TZID=America/Los_Angeles:20251015T210000
DTSTAMP:20260424T171719
CREATED:20250927T062149Z
LAST-MODIFIED:20251015T062906Z
UID:16047-1760554800-1760562000@www.sacramentotop10.com
SUMMARY:Dracula: A Melodrama
DESCRIPTION:Cheer\, Boo\, Repeat: Why “Dracula: a melodrama” Is Your Next Night Out\nIf you think you know Dracula\, think again. “Dracula: a melodrama” takes Bram Stoker’s immortal Gothic thriller and reimagines it as a live\, interactive melodrama—a delicious mash-up of suspense\, tongue-in-cheek humor\, and earnest drama that begs you to be loud. Yes\, loud. This production invites you to cheer for the heroes and boo every dastardly deed as the Count slinks across society\, corrupting everything in his wake. \nThe setup is gloriously simple: an on-script performance conceived specifically for local audiences by Director/Playwright T.S. Forsyth. That format keeps the pace brisk and the wit sharp\, while preserving the Gothic atmosphere—think windswept howls and the faint rustle of a cape right before the bite. \nThe central questions keep hearts pounding: Will flirtatious Lucy Westenra and pure-hearted Mina Murray resist the Count’s hypnotic pull? Can the obsessed Professor Van Helsing outwit the “foul fiend”? And is Renfield a wildcard ally or a chaos machine? Meanwhile\, steadfast Jonathan Harker must decide whether love is stronger than fear when Mina’s fate hangs by a thread. \nWhat makes this staging special isn’t just the narrative—it’s the audience energy. Your cheers fortify the heroes; your boos sharpen the villains. You don’t just watch the story; you tilt it. Add in clever comic beats\, sudden jolts of suspense\, and a few sly nods to classic horror\, and you’ve got a night that’s equal parts spine-tingling and crowd-pleasing. \nBring your voice\, bring your friends\, and bring your best boo. The lone wolf’s howl is your cue—danger’s afoot for creatures of daylight\, and you’re the last line of defense. \nOctober 8\, 2025 7:00pm	 Roseville - Maidu Community Center October 10\, 2025		 7:00pm Auburn Carnegie Library October 11\, 2025 4:00pm Auburn Carnegie Library October 11\, 2025 7:00pm Auburn Carnegie Library October 15\, 2025 7:00pm Rocklin - Johnson Springview Park October 16\, 2025 7:00pm Lincoln Twelve Bridges Library October 17\, 2025 7:00pm Rocklin - Johnson Springview Park
URL:https://www.sacramentotop10.com/event/dracula-a-melodrama-4/
LOCATION:Johnson-Springview Park\, 5480 5th St\, Rocklin\, CA\, United States
CATEGORIES:Halloween,Rocklin
ATTACH;FMTTYPE=image/png:https://www.sacramentotop10.com/wp-content/uploads/2025/09/Dracula-A-Melodrama.png
END:VEVENT
BEGIN:VEVENT
DTSTART;TZID=America/Los_Angeles:20251015T190000
DTEND;TZID=America/Los_Angeles:20251015T210000
DTSTAMP:20260424T171719
CREATED:20250927T062149Z
LAST-MODIFIED:20251015T062906Z
UID:16047-1760554800-1760562000@www.sacramentotop10.com
SUMMARY:Dracula: A Melodrama
DESCRIPTION:Cheer\, Boo\, Repeat: Why “Dracula: a melodrama” Is Your Next Night Out\nIf you think you know Dracula\, think again. “Dracula: a melodrama” takes Bram Stoker’s immortal Gothic thriller and reimagines it as a live\, interactive melodrama—a delicious mash-up of suspense\, tongue-in-cheek humor\, and earnest drama that begs you to be loud. Yes\, loud. This production invites you to cheer for the heroes and boo every dastardly deed as the Count slinks across society\, corrupting everything in his wake. \nThe setup is gloriously simple: an on-script performance conceived specifically for local audiences by Director/Playwright T.S. Forsyth. That format keeps the pace brisk and the wit sharp\, while preserving the Gothic atmosphere—think windswept howls and the faint rustle of a cape right before the bite. \nThe central questions keep hearts pounding: Will flirtatious Lucy Westenra and pure-hearted Mina Murray resist the Count’s hypnotic pull? Can the obsessed Professor Van Helsing outwit the “foul fiend”? And is Renfield a wildcard ally or a chaos machine? Meanwhile\, steadfast Jonathan Harker must decide whether love is stronger than fear when Mina’s fate hangs by a thread. \nWhat makes this staging special isn’t just the narrative—it’s the audience energy. Your cheers fortify the heroes; your boos sharpen the villains. You don’t just watch the story; you tilt it. Add in clever comic beats\, sudden jolts of suspense\, and a few sly nods to classic horror\, and you’ve got a night that’s equal parts spine-tingling and crowd-pleasing. \nBring your voice\, bring your friends\, and bring your best boo. The lone wolf’s howl is your cue—danger’s afoot for creatures of daylight\, and you’re the last line of defense. \nOctober 8\, 2025 7:00pm	 Roseville - Maidu Community Center October 10\, 2025		 7:00pm Auburn Carnegie Library October 11\, 2025 4:00pm Auburn Carnegie Library October 11\, 2025 7:00pm Auburn Carnegie Library October 15\, 2025 7:00pm Rocklin - Johnson Springview Park October 16\, 2025 7:00pm Lincoln Twelve Bridges Library October 17\, 2025 7:00pm Rocklin - Johnson Springview Park
URL:https://www.sacramentotop10.com/event/dracula-a-melodrama-4/
LOCATION:Johnson-Springview Park\, 5480 5th St\, Rocklin\, CA\, United States
CATEGORIES:Halloween,Rocklin
ATTACH;FMTTYPE=image/png:https://www.sacramentotop10.com/wp-content/uploads/2025/09/Dracula-A-Melodrama.png
END:VEVENT
END:VCALENDAR