BEGIN:VCALENDAR
VERSION:2.0
PRODID:-//Sacramento Top 10 - ECPv6.15.11//NONSGML v1.0//EN
CALSCALE:GREGORIAN
METHOD:PUBLISH
X-WR-CALNAME:Sacramento Top 10
X-ORIGINAL-URL:https://www.sacramentotop10.com
X-WR-CALDESC:Events for Sacramento Top 10
REFRESH-INTERVAL;VALUE=DURATION:PT1H
X-Robots-Tag:noindex
X-PUBLISHED-TTL:PT1H
BEGIN:VTIMEZONE
TZID:America/Los_Angeles
BEGIN:DAYLIGHT
TZOFFSETFROM:-0800
TZOFFSETTO:-0700
TZNAME:PDT
DTSTART:20240310T100000
END:DAYLIGHT
BEGIN:STANDARD
TZOFFSETFROM:-0700
TZOFFSETTO:-0800
TZNAME:PST
DTSTART:20241103T090000
END:STANDARD
BEGIN:DAYLIGHT
TZOFFSETFROM:-0800
TZOFFSETTO:-0700
TZNAME:PDT
DTSTART:20250309T100000
END:DAYLIGHT
BEGIN:STANDARD
TZOFFSETFROM:-0700
TZOFFSETTO:-0800
TZNAME:PST
DTSTART:20251102T090000
END:STANDARD
BEGIN:DAYLIGHT
TZOFFSETFROM:-0800
TZOFFSETTO:-0700
TZNAME:PDT
DTSTART:20260308T100000
END:DAYLIGHT
BEGIN:STANDARD
TZOFFSETFROM:-0700
TZOFFSETTO:-0800
TZNAME:PST
DTSTART:20261101T090000
END:STANDARD
END:VTIMEZONE
BEGIN:VEVENT
DTSTART;TZID=America/Los_Angeles:20251026T120000
DTEND;TZID=America/Los_Angeles:20251026T180000
DTSTAMP:20260424T171448
CREATED:20251011T055749Z
LAST-MODIFIED:20251018T003503Z
UID:16382-1761480000-1761501600@www.sacramentotop10.com
SUMMARY:Dueling Dogs Brewing Howloween
DESCRIPTION:Clear your camera roll and leash up the star of your household. Dueling Dogs Brewing is throwing Howloween on Sunday\, October 26\, a patio party built for dogs who love attention and humans who love a good pint. \nThe schedule is simple and perfect. The dog costume contest starts at 2 p.m. so you can arrive\, grab a table\, and get those last whisker adjustments just right. The dog pie-eating contest follows at 4 p.m.\, which is exactly enough time to cheer\, hydrate\, and meet three new best friends in tiny capes. \nWhat to expect\n	•	A patio full of pups in creative looks\n	•	Judges who appreciate both craftsmanship and comedy\n	•	Photo backdrops and lots of candid opportunities\n	•	A relaxed brewery crowd that treats every dog like a local celebrity \n\nBest Halloween event LincolnIs your dog asking you to take him to a Halloween costume party? Here's a fab option. Oct 26th 12n-6p at Dueling Dogs Breweryhttps://t.co/JnxO7JtGwp pic.twitter.com/WyU7P9App9 \n— Sacramento Top 10 (@SacramentoTop10) October 11\, 2025 \n  \nBring a short leash\, a small water bowl\, and a treat pouch for focus during judging. Costumes should fit comfortably and allow free movement. Check tags and harnesses so everything stays secure during the sprint to the pie dish. \nIdeas that always land\n	•	Food puns and snack themes\n	•	Movie sidekicks with matching human handlers\n	•	Sport jerseys with tiny props that do not trip paws \nPlan to arrive a little early to snag shade and settle your pup. Order a flight\, Trade dog compliments\, then line up for the 2 p.m. runway moment. By the time pies appear at 4 p.m.\, the crowd will know who to watch.
URL:https://www.sacramentotop10.com/event/dueling-dogs-brewing-howloween/
LOCATION:Dueling Dogs Brewery\, 3030 Barret Park Lane\, Lincoln\, CA\, United States
CATEGORIES:Halloween,Lincoln
ATTACH;FMTTYPE=image/png:https://www.sacramentotop10.com/wp-content/uploads/2025/10/dueling-dogs-brewing-howloween.png
END:VEVENT
BEGIN:VEVENT
DTSTART;TZID=America/Los_Angeles:20251016T190000
DTEND;TZID=America/Los_Angeles:20251016T210000
DTSTAMP:20260424T171448
CREATED:20250927T035141Z
LAST-MODIFIED:20251015T062824Z
UID:16042-1760641200-1760648400@www.sacramentotop10.com
SUMMARY:Dracula: A Melodrama
DESCRIPTION:Cheer\, Boo\, Repeat: Why “Dracula: a melodrama” Is Your Next Night Out\nIf you think you know Dracula\, think again. “Dracula: a melodrama” takes Bram Stoker’s immortal Gothic thriller and reimagines it as a live\, interactive melodrama—a delicious mash-up of suspense\, tongue-in-cheek humor\, and earnest drama that begs you to be loud. Yes\, loud. This production invites you to cheer for the heroes and boo every dastardly deed as the Count slinks across society\, corrupting everything in his wake. \nThe setup is gloriously simple: an on-script performance conceived specifically for local audiences by Director/Playwright T.S. Forsyth. That format keeps the pace brisk and the wit sharp\, while preserving the Gothic atmosphere—think windswept howls and the faint rustle of a cape right before the bite. \nThe central questions keep hearts pounding: Will flirtatious Lucy Westenra and pure-hearted Mina Murray resist the Count’s hypnotic pull? Can the obsessed Professor Van Helsing outwit the “foul fiend”? And is Renfield a wildcard ally or a chaos machine? Meanwhile\, steadfast Jonathan Harker must decide whether love is stronger than fear when Mina’s fate hangs by a thread. \nWhat makes this staging special isn’t just the narrative—it’s the audience energy. Your cheers fortify the heroes; your boos sharpen the villains. You don’t just watch the story; you tilt it. Add in clever comic beats\, sudden jolts of suspense\, and a few sly nods to classic horror\, and you’ve got a night that’s equal parts spine-tingling and crowd-pleasing. \nBring your voice\, bring your friends\, and bring your best boo. The lone wolf’s howl is your cue—danger’s afoot for creatures of daylight\, and you’re the last line of defense.
URL:https://www.sacramentotop10.com/event/dracula-a-melodrama-2/
LOCATION:Lincoln Twelve Bridges Library\, 485 Twelve Bridges Drive\, Lincoln\, CA\, United States
CATEGORIES:Halloween,Lincoln
ATTACH;FMTTYPE=image/png:https://www.sacramentotop10.com/wp-content/uploads/2025/09/Dracula-A-Melodrama.png
END:VEVENT
END:VCALENDAR