BEGIN:VCALENDAR
VERSION:2.0
PRODID:-//Sacramento Top 10 - ECPv6.15.11//NONSGML v1.0//EN
CALSCALE:GREGORIAN
METHOD:PUBLISH
X-ORIGINAL-URL:https://www.sacramentotop10.com
X-WR-CALDESC:Events for Sacramento Top 10
REFRESH-INTERVAL;VALUE=DURATION:PT1H
X-Robots-Tag:noindex
X-PUBLISHED-TTL:PT1H
BEGIN:VTIMEZONE
TZID:America/Los_Angeles
BEGIN:DAYLIGHT
TZOFFSETFROM:-0800
TZOFFSETTO:-0700
TZNAME:PDT
DTSTART:20240310T100000
END:DAYLIGHT
BEGIN:STANDARD
TZOFFSETFROM:-0700
TZOFFSETTO:-0800
TZNAME:PST
DTSTART:20241103T090000
END:STANDARD
BEGIN:DAYLIGHT
TZOFFSETFROM:-0800
TZOFFSETTO:-0700
TZNAME:PDT
DTSTART:20250309T100000
END:DAYLIGHT
BEGIN:STANDARD
TZOFFSETFROM:-0700
TZOFFSETTO:-0800
TZNAME:PST
DTSTART:20251102T090000
END:STANDARD
BEGIN:DAYLIGHT
TZOFFSETFROM:-0800
TZOFFSETTO:-0700
TZNAME:PDT
DTSTART:20260308T100000
END:DAYLIGHT
BEGIN:STANDARD
TZOFFSETFROM:-0700
TZOFFSETTO:-0800
TZNAME:PST
DTSTART:20261101T090000
END:STANDARD
END:VTIMEZONE
BEGIN:VEVENT
DTSTART;TZID=America/Los_Angeles:20251004T100000
DTEND;TZID=America/Los_Angeles:20251004T170000
DTSTAMP:20260424T152325
CREATED:20250930T194657Z
LAST-MODIFIED:20251007T163643Z
UID:16098-1759572000-1759597200@www.sacramentotop10.com
SUMMARY:Giant Pumpkin Festival
DESCRIPTION:How to Do the Giant Pumpkin Festival (and Love Every Minute)\nFamily festivals can be chaos—unless you plan like a pumpkin pro. The Giant Pumpkin Festival in Elk Grove is built for all-ages joy: safe paths\, friendly volunteers\, and “do-this-next” stations that keep little hands busy and smiles steady. \nStart with a loop: pumpkins → Kid Zone activity → snack → music lawn → artisan booths → photo op → repeat. Put a star next to two must-dos (say\, the pumpkin-decorating table and the costume parade) and treat everything else as bonus. Bring a stroller or wagon; it doubles as a pumpkin cart and nap mobile when the sugar rush slumps. \nSnack strategy: quick fuel first (pretzels\, fruit pouches)\, then a treat later (donuts\, kettle corn) as a mid-festival morale boost. Hydration matters—pack waters\, then discover the hot cider stand “by accident.” If your kid is shy\, hit a low-stakes win early—ring toss\, bean bags\, or chalk art—so confidence rises before the bigger activities. \nFor parents: the artisan market is a stealth gift shop; think handmade soaps\, fall candles\, and local honey. For teens: the live music lawn and selfie-worthy pumpkin stacks. For everyone: carving demos\, mini-workshops\, and a sunset soundtrack that turns the day cinematic. \nBefore you go: check the official page for schedule drops\, parking tips\, and accessibility notes. Then breathe; the Giant Pumpkin Festival is fall’s easiest yes.
URL:https://www.sacramentotop10.com/event/great-pumpkin-festival/
LOCATION:Elk Grove Park\, 9950 Elk Grove Florin Rd\, Elk Grove\, CA\, 95624\, United States
CATEGORIES:Elk Grove,Halloween
ATTACH;FMTTYPE=image/png:https://www.sacramentotop10.com/wp-content/uploads/2025/09/elk-grove-giant-pumpkin-festival.png
END:VEVENT
BEGIN:VEVENT
DTSTART;TZID=America/Los_Angeles:20251004T100000
DTEND;TZID=America/Los_Angeles:20251004T170000
DTSTAMP:20260424T152325
CREATED:20250930T194657Z
LAST-MODIFIED:20251007T163643Z
UID:16098-1759572000-1759597200@www.sacramentotop10.com
SUMMARY:Giant Pumpkin Festival
DESCRIPTION:How to Do the Giant Pumpkin Festival (and Love Every Minute)\nFamily festivals can be chaos—unless you plan like a pumpkin pro. The Giant Pumpkin Festival in Elk Grove is built for all-ages joy: safe paths\, friendly volunteers\, and “do-this-next” stations that keep little hands busy and smiles steady. \nStart with a loop: pumpkins → Kid Zone activity → snack → music lawn → artisan booths → photo op → repeat. Put a star next to two must-dos (say\, the pumpkin-decorating table and the costume parade) and treat everything else as bonus. Bring a stroller or wagon; it doubles as a pumpkin cart and nap mobile when the sugar rush slumps. \nSnack strategy: quick fuel first (pretzels\, fruit pouches)\, then a treat later (donuts\, kettle corn) as a mid-festival morale boost. Hydration matters—pack waters\, then discover the hot cider stand “by accident.” If your kid is shy\, hit a low-stakes win early—ring toss\, bean bags\, or chalk art—so confidence rises before the bigger activities. \nFor parents: the artisan market is a stealth gift shop; think handmade soaps\, fall candles\, and local honey. For teens: the live music lawn and selfie-worthy pumpkin stacks. For everyone: carving demos\, mini-workshops\, and a sunset soundtrack that turns the day cinematic. \nBefore you go: check the official page for schedule drops\, parking tips\, and accessibility notes. Then breathe; the Giant Pumpkin Festival is fall’s easiest yes.
URL:https://www.sacramentotop10.com/event/great-pumpkin-festival/
LOCATION:Elk Grove Park\, 9950 Elk Grove Florin Rd\, Elk Grove\, CA\, 95624\, United States
CATEGORIES:Elk Grove,Halloween
ATTACH;FMTTYPE=image/png:https://www.sacramentotop10.com/wp-content/uploads/2025/09/elk-grove-giant-pumpkin-festival.png
END:VEVENT
END:VCALENDAR