BEGIN:VCALENDAR
VERSION:2.0
PRODID:-//Sacramento Top 10 - ECPv6.15.11//NONSGML v1.0//EN
CALSCALE:GREGORIAN
METHOD:PUBLISH
X-ORIGINAL-URL:https://www.sacramentotop10.com
X-WR-CALDESC:Events for Sacramento Top 10
REFRESH-INTERVAL;VALUE=DURATION:PT1H
X-Robots-Tag:noindex
X-PUBLISHED-TTL:PT1H
BEGIN:VTIMEZONE
TZID:America/Los_Angeles
BEGIN:DAYLIGHT
TZOFFSETFROM:-0800
TZOFFSETTO:-0700
TZNAME:PDT
DTSTART:20240310T100000
END:DAYLIGHT
BEGIN:STANDARD
TZOFFSETFROM:-0700
TZOFFSETTO:-0800
TZNAME:PST
DTSTART:20241103T090000
END:STANDARD
BEGIN:DAYLIGHT
TZOFFSETFROM:-0800
TZOFFSETTO:-0700
TZNAME:PDT
DTSTART:20250309T100000
END:DAYLIGHT
BEGIN:STANDARD
TZOFFSETFROM:-0700
TZOFFSETTO:-0800
TZNAME:PST
DTSTART:20251102T090000
END:STANDARD
BEGIN:DAYLIGHT
TZOFFSETFROM:-0800
TZOFFSETTO:-0700
TZNAME:PDT
DTSTART:20260308T100000
END:DAYLIGHT
BEGIN:STANDARD
TZOFFSETFROM:-0700
TZOFFSETTO:-0800
TZNAME:PST
DTSTART:20261101T090000
END:STANDARD
END:VTIMEZONE
BEGIN:VEVENT
DTSTART;TZID=America/Los_Angeles:20251025T163000
DTEND;TZID=America/Los_Angeles:20251025T200000
DTSTAMP:20260424T153710
CREATED:20251007T160710Z
LAST-MODIFIED:20251014T053946Z
UID:16263-1761409800-1761422400@www.sacramentotop10.com
SUMMARY:Boos & Brews at El Dorado Hills Town Center
DESCRIPTION:If your favorite food group is “festive\,” pencil in Boos & Brews\, the Tastes of EDH Town Center Halloween Reception. Each fall\, the El Dorado Hills Town Center trades everyday errands for eerie elegance—string lights\, seasonal decor\, and a cheerful crowd that knows how to celebrate spooky season in style. \nWhat makes Boos & Brews special? It blends the best parts of a progressive tasting with a costume party. You’ll wander the Town Center\, sampling tasty treats and refreshing beverages (yes\, there are brews) while swapping compliments with pirates\, witches\, and at least one inflatable dinosaur. It’s social\, snackable\, and delightfully photogenic.\nCostumes are encouraged—which is half the fun. Think “comfortable statement”: you’ll be walking\, noshing\, and toasting\, so pick footwear you can flaunt and survive. Capes are aerodynamic\, masks are optional\, and a little glitter never hurt anyone (maybe warn your plus-one). \nWhat it is (and isn’t):\n	•	Boos & Brews is the Halloween reception version of Tastes of EDH Town Center—food-forward\, sip-happy\, and costume-loving.\n	•	It’s distinct from the El Dorado Hills Art\, Beer & Wine Festival and the El Dorado Hills Brewfest—those are separate annual events in the same Town Center calendar. \nPro Tips\n	•	Arrive early to catch golden-hour photos by the fountain.\n	•	Share plates so you can try more tastes.\n	•	Bring ID if you plan to sample alcoholic beverages.\n	•	Charge your phone—you’ll want pics of the décor and the costume parade that spontaneously happens everywhere.\nIf your October checklist reads “eat well\, drink well\, look fabulous\,” then Boos & Brews is your signature move. See you under the string lights—save us a sip and a cinnamon-dusted something.
URL:https://www.sacramentotop10.com/event/boos-brews-at-el-dorado-hills-town-center/
LOCATION:Atrium Gallery\, 4364 Towne Center Blvd\, El Dorado Hills\, CA\, United States
CATEGORIES:El Dorado Hills,Halloween
ATTACH;FMTTYPE=image/png:https://www.sacramentotop10.com/wp-content/uploads/2025/10/boos-brews-el-dorado-hills-town-center.png
END:VEVENT
BEGIN:VEVENT
DTSTART;TZID=America/Los_Angeles:20251018T130000
DTEND;TZID=America/Los_Angeles:20251018T150000
DTSTAMP:20260424T153710
CREATED:20251008T171158Z
LAST-MODIFIED:20251013T133009Z
UID:16313-1760792400-1760799600@www.sacramentotop10.com
SUMMARY:Pumpkin Splash Patch
DESCRIPTION:If pumpkins and pool days had a baby\, it would be Pumpkin Splash Patch in El Dorado Hills. Picture it: the pool sparkles with floating pumpkins\, kids paddle out to claim their favorite\, and parents get the kind of fall photos that end up on grandma’s fridge till spring. \nWhy it’s a win:\n	•	Floating pumpkin patch: kiddos choose a pumpkin in the water—pure October magic.\n	•	Supervised fun: lifeguards on duty and a simple format that’s easy for families.\n	•	Photo moments: festive backdrops and big smiles in goggles and capes.\n	•	Less chaos\, more joy: timed sessions mean manageable crowds and happier humans. \nWhat to expect :\n	•	Check-in\, quick safety rundown\, then splash time.\n	•	Each child selects one pumpkin.\n	•	Post-swim area for drying off\, decorating\, or a quick cocoa.\n	•	Costumes encouraged—over swimwear or swapped on after. \nPro tips:\n	•	Arrive 15–20 minutes early to park\, check in\, and sunscreen up.\n	•	Swim shirts keep little ghouls warm; pools can feel brisk in fall.\n	•	Label towels—pumpkin hunting makes everything look identical.\n	•	A dry change of clothes = cozy exit and zero parking-lot meltdowns. \nGood to know:\n	•	Age/height guidelines and parent-in-water rules can apply for younger swimmers.\n	•	Sessions often sell out; book in advance and choose your time slot carefully.\n	•	Most venues prohibit glass and outside inflatables; follow posted rules. \nReady to trade cornfields for cannonballs? The Pumpkin Splash Patch gives you classic autumn spirit—with bonus belly laughs and a pumpkin that came with a story.
URL:https://www.sacramentotop10.com/event/pumpkin-splash-patch/
LOCATION:El Dorado Hills Community Services\, 1021 Harvard Way\, El Dorado Hills\, CA\, United States
CATEGORIES:El Dorado Hills,Halloween
ATTACH;FMTTYPE=image/png:https://www.sacramentotop10.com/wp-content/uploads/2025/10/pumpkin-splash-patch.png
END:VEVENT
END:VCALENDAR