BEGIN:VCALENDAR
VERSION:2.0
PRODID:-//Sacramento Top 10 - ECPv6.15.11//NONSGML v1.0//EN
CALSCALE:GREGORIAN
METHOD:PUBLISH
X-ORIGINAL-URL:https://www.sacramentotop10.com
X-WR-CALDESC:Events for Sacramento Top 10
REFRESH-INTERVAL;VALUE=DURATION:PT1H
X-Robots-Tag:noindex
X-PUBLISHED-TTL:PT1H
BEGIN:VTIMEZONE
TZID:America/Los_Angeles
BEGIN:DAYLIGHT
TZOFFSETFROM:-0800
TZOFFSETTO:-0700
TZNAME:PDT
DTSTART:20240310T100000
END:DAYLIGHT
BEGIN:STANDARD
TZOFFSETFROM:-0700
TZOFFSETTO:-0800
TZNAME:PST
DTSTART:20241103T090000
END:STANDARD
BEGIN:DAYLIGHT
TZOFFSETFROM:-0800
TZOFFSETTO:-0700
TZNAME:PDT
DTSTART:20250309T100000
END:DAYLIGHT
BEGIN:STANDARD
TZOFFSETFROM:-0700
TZOFFSETTO:-0800
TZNAME:PST
DTSTART:20251102T090000
END:STANDARD
BEGIN:DAYLIGHT
TZOFFSETFROM:-0800
TZOFFSETTO:-0700
TZNAME:PDT
DTSTART:20260308T100000
END:DAYLIGHT
BEGIN:STANDARD
TZOFFSETFROM:-0700
TZOFFSETTO:-0800
TZNAME:PST
DTSTART:20261101T090000
END:STANDARD
END:VTIMEZONE
BEGIN:VEVENT
DTSTART;TZID=America/Los_Angeles:20251024T190000
DTEND;TZID=America/Los_Angeles:20251024T210000
DTSTAMP:20260424T153041
CREATED:20251010T055307Z
LAST-MODIFIED:20251013T132935Z
UID:16370-1761332400-1761339600@www.sacramentotop10.com
SUMMARY:Watermelon Music Haunted House
DESCRIPTION:Looking for Halloween fun without the nightmare fuel?  \nWatermelon Music is opening its doors for a FREE\, all-ages haunted house—a gentle\, music-laced scare that’s perfect for littles\, grandparents\, and everyone in between. \nWhen: 7–9 p.m. on Oct 24\, 25\, 26\, 29 & 30 Where: Watermelon Music (Store)\, Davis\, CA Cost: Free admission! Vibe check: No gore\, no jump-scares. Costumes encouraged. \nWhat makes it special:\n	•	Live (or undead) musicians set the mood with spooky tunes that delight rather than frighten.\n	•	Five Halloween-themed rooms to explore—each with its own playful atmosphere.\n	•	Halloween karaoke (yes\, “Monster Mash” is practically required).\n	•	Mini-pumpkin painting to take home a tiny masterpiece.\n	•	A cheerful photo-op station for your new favorite fall pic. \nWatermelon Music has been part of the Davis community since the 1970s\, known for its non-commercial\, family-first approach\, instrument selection\, lessons\, and repairs. This event is another love letter to the neighborhood—made to bring people together\, not send them running. \nPro tips for a smooth visit\n	•	Come in costume (parents\, too).\n	•	Arrive closer to 7 p.m. for easier flow through the rooms.\n	•	Parking near the store can fill—carpool if you can.\n	•	Bring a small tote for that painted pumpkin and any costume accessories. \nSilly\, seasonal\, and set to music—this is the kind of Halloween stop that becomes a tradition. See you under the friendly cobwebs.
URL:https://www.sacramentotop10.com/event/watermelon-music-haunted-house/
LOCATION:Watermelon Music\, 1970 Lake Blvd\, Davis\, CA\, United States
CATEGORIES:Davis,Halloween
ATTACH;FMTTYPE=image/jpeg:https://www.sacramentotop10.com/wp-content/uploads/2025/10/watermelon-music-haunted-house.jpg
END:VEVENT
BEGIN:VEVENT
DTSTART;TZID=America/Los_Angeles:20251024T190000
DTEND;TZID=America/Los_Angeles:20251024T210000
DTSTAMP:20260424T153041
CREATED:20251010T055307Z
LAST-MODIFIED:20251013T132935Z
UID:16370-1761332400-1761339600@www.sacramentotop10.com
SUMMARY:Watermelon Music Haunted House
DESCRIPTION:Looking for Halloween fun without the nightmare fuel?  \nWatermelon Music is opening its doors for a FREE\, all-ages haunted house—a gentle\, music-laced scare that’s perfect for littles\, grandparents\, and everyone in between. \nWhen: 7–9 p.m. on Oct 24\, 25\, 26\, 29 & 30 Where: Watermelon Music (Store)\, Davis\, CA Cost: Free admission! Vibe check: No gore\, no jump-scares. Costumes encouraged. \nWhat makes it special:\n	•	Live (or undead) musicians set the mood with spooky tunes that delight rather than frighten.\n	•	Five Halloween-themed rooms to explore—each with its own playful atmosphere.\n	•	Halloween karaoke (yes\, “Monster Mash” is practically required).\n	•	Mini-pumpkin painting to take home a tiny masterpiece.\n	•	A cheerful photo-op station for your new favorite fall pic. \nWatermelon Music has been part of the Davis community since the 1970s\, known for its non-commercial\, family-first approach\, instrument selection\, lessons\, and repairs. This event is another love letter to the neighborhood—made to bring people together\, not send them running. \nPro tips for a smooth visit\n	•	Come in costume (parents\, too).\n	•	Arrive closer to 7 p.m. for easier flow through the rooms.\n	•	Parking near the store can fill—carpool if you can.\n	•	Bring a small tote for that painted pumpkin and any costume accessories. \nSilly\, seasonal\, and set to music—this is the kind of Halloween stop that becomes a tradition. See you under the friendly cobwebs.
URL:https://www.sacramentotop10.com/event/watermelon-music-haunted-house/
LOCATION:Watermelon Music\, 1970 Lake Blvd\, Davis\, CA\, United States
CATEGORIES:Davis,Halloween
ATTACH;FMTTYPE=image/jpeg:https://www.sacramentotop10.com/wp-content/uploads/2025/10/watermelon-music-haunted-house.jpg
END:VEVENT
BEGIN:VEVENT
DTSTART;TZID=America/Los_Angeles:20251029T160000
DTEND;TZID=America/Los_Angeles:20251029T203000
DTSTAMP:20260424T153041
CREATED:20251001T021053Z
LAST-MODIFIED:20251015T062414Z
UID:16149-1761753600-1761769800@www.sacramentotop10.com
SUMMARY:Pumpkin Carving Contest
DESCRIPTION:Slice\, Sip\, Win: Super Owl’s Pumpkin Carving Contest Returns to Davis\n  \nSharpen those spooky skills Super Owl Brewing is hosting its annual Pumpkin Carving Contest on Wednesday\, October 29\, 2025 at 1260 Lake Blvd #121\, Davis. It’s a carve-and-chill kind of night: doors at 4:00 pm\, event window 4:30–8:30 pm\, and carving kicks off around 5:00 pm so you’ve got plenty of time to plan your masterpiece. \nHere’s the treat: Super Owl provides everything—pumpkins\, carving tools\, and candy. You bring the vibes (and maybe a steady hand). It’s all ages\, in person\, free parking\, and a full four hours of festive chaos. Expect friendly smack talk\, lots of scooping\, and a showcase of wildly creative gourds—from classic jack-o’-lantern grins to intricate scene carving that’ll make you say\, “That’s a pumpkin?!” \nWhy it slaps (like a pumpkin on a cutting board):\n	•	Zero prep: No grocery scramble; your pumpkin and tools are waiting.\n	•	Prizes: Carve the most boo-tiful pumpkin and score bragging rights (and goodies).\n	•	Brewery backdrop: Sip something seasonal while you sculpt—optional\, recommended.\n	•	Kid-friendly: It’s all ages\, so bring the crew.\nGood to know\n	•	When: Wed\, Oct 29 • 4:30–8:30 pm (doors 4:00; carving from ~5:00)\n	•	Where: Super Owl Brewing\, 1260 Lake Blvd #121\, Davis\, CA 95616\n	•	Parking: Free\n	•	Refund policy: No refunds\n	•	We provide: Pumpkins\, tools\, candy\n	•	You provide: Creativity\, costumes welcome if you like \nCome early to snag a good spot\, sketch your design\, and order your first pour before the shavings fly. It’s the most gourd-geous Wednesday of the year—see you under the string lights with pumpkin guts on your sleeves and a smile on your face.
URL:https://www.sacramentotop10.com/event/pumpkin-carving-contest/
LOCATION:Super Owl Brewing\, 1260 Lake Blvd #121\, Davis\, CA\, United States
CATEGORIES:Davis,Halloween
ATTACH;FMTTYPE=image/png:https://www.sacramentotop10.com/wp-content/uploads/2025/09/davis-pumpkin-carving-contest.png
END:VEVENT
BEGIN:VEVENT
DTSTART;TZID=America/Los_Angeles:20251024T190000
DTEND;TZID=America/Los_Angeles:20251024T210000
DTSTAMP:20260424T153041
CREATED:20251010T055307Z
LAST-MODIFIED:20251013T132935Z
UID:16370-1761332400-1761339600@www.sacramentotop10.com
SUMMARY:Watermelon Music Haunted House
DESCRIPTION:Looking for Halloween fun without the nightmare fuel?  \nWatermelon Music is opening its doors for a FREE\, all-ages haunted house—a gentle\, music-laced scare that’s perfect for littles\, grandparents\, and everyone in between. \nWhen: 7–9 p.m. on Oct 24\, 25\, 26\, 29 & 30 Where: Watermelon Music (Store)\, Davis\, CA Cost: Free admission! Vibe check: No gore\, no jump-scares. Costumes encouraged. \nWhat makes it special:\n	•	Live (or undead) musicians set the mood with spooky tunes that delight rather than frighten.\n	•	Five Halloween-themed rooms to explore—each with its own playful atmosphere.\n	•	Halloween karaoke (yes\, “Monster Mash” is practically required).\n	•	Mini-pumpkin painting to take home a tiny masterpiece.\n	•	A cheerful photo-op station for your new favorite fall pic. \nWatermelon Music has been part of the Davis community since the 1970s\, known for its non-commercial\, family-first approach\, instrument selection\, lessons\, and repairs. This event is another love letter to the neighborhood—made to bring people together\, not send them running. \nPro tips for a smooth visit\n	•	Come in costume (parents\, too).\n	•	Arrive closer to 7 p.m. for easier flow through the rooms.\n	•	Parking near the store can fill—carpool if you can.\n	•	Bring a small tote for that painted pumpkin and any costume accessories. \nSilly\, seasonal\, and set to music—this is the kind of Halloween stop that becomes a tradition. See you under the friendly cobwebs.
URL:https://www.sacramentotop10.com/event/watermelon-music-haunted-house/
LOCATION:Watermelon Music\, 1970 Lake Blvd\, Davis\, CA\, United States
CATEGORIES:Davis,Halloween
ATTACH;FMTTYPE=image/jpeg:https://www.sacramentotop10.com/wp-content/uploads/2025/10/watermelon-music-haunted-house.jpg
END:VEVENT
BEGIN:VEVENT
DTSTART;TZID=America/Los_Angeles:20251024T190000
DTEND;TZID=America/Los_Angeles:20251024T210000
DTSTAMP:20260424T153041
CREATED:20251010T055307Z
LAST-MODIFIED:20251013T132935Z
UID:16370-1761332400-1761339600@www.sacramentotop10.com
SUMMARY:Watermelon Music Haunted House
DESCRIPTION:Looking for Halloween fun without the nightmare fuel?  \nWatermelon Music is opening its doors for a FREE\, all-ages haunted house—a gentle\, music-laced scare that’s perfect for littles\, grandparents\, and everyone in between. \nWhen: 7–9 p.m. on Oct 24\, 25\, 26\, 29 & 30 Where: Watermelon Music (Store)\, Davis\, CA Cost: Free admission! Vibe check: No gore\, no jump-scares. Costumes encouraged. \nWhat makes it special:\n	•	Live (or undead) musicians set the mood with spooky tunes that delight rather than frighten.\n	•	Five Halloween-themed rooms to explore—each with its own playful atmosphere.\n	•	Halloween karaoke (yes\, “Monster Mash” is practically required).\n	•	Mini-pumpkin painting to take home a tiny masterpiece.\n	•	A cheerful photo-op station for your new favorite fall pic. \nWatermelon Music has been part of the Davis community since the 1970s\, known for its non-commercial\, family-first approach\, instrument selection\, lessons\, and repairs. This event is another love letter to the neighborhood—made to bring people together\, not send them running. \nPro tips for a smooth visit\n	•	Come in costume (parents\, too).\n	•	Arrive closer to 7 p.m. for easier flow through the rooms.\n	•	Parking near the store can fill—carpool if you can.\n	•	Bring a small tote for that painted pumpkin and any costume accessories. \nSilly\, seasonal\, and set to music—this is the kind of Halloween stop that becomes a tradition. See you under the friendly cobwebs.
URL:https://www.sacramentotop10.com/event/watermelon-music-haunted-house/
LOCATION:Watermelon Music\, 1970 Lake Blvd\, Davis\, CA\, United States
CATEGORIES:Davis,Halloween
ATTACH;FMTTYPE=image/jpeg:https://www.sacramentotop10.com/wp-content/uploads/2025/10/watermelon-music-haunted-house.jpg
END:VEVENT
BEGIN:VEVENT
DTSTART;TZID=America/Los_Angeles:20251025T183000
DTEND;TZID=America/Los_Angeles:20251025T213000
DTSTAMP:20260424T153041
CREATED:20250927T210813Z
LAST-MODIFIED:20251007T163046Z
UID:16072-1761417000-1761427800@www.sacramentotop10.com
SUMMARY:Davis Zombie Ball
DESCRIPTION:Dress to Distress: Zombie Ball Takes Over Davis\nClear your calendar and smear a little fake blood—Zombie Ball shambles into Davis on Saturday\, October 25\, 2025\, and it’s the most fun you can have while “deceased.” Think pulsing beats\, shuffling feet\, and a horde of fabulously undead partygoers turning downtown into a danceable apocalypse. Whether you’re a first-time ghoul or a long-time lurker\, this is your night to rise. \nWhat to expect:\n\nCostumes\, obviously. Go classic Romero\, glam zombie couture\, undead prom king/queen\, or shock everyone with “surprisingly alive but suspiciously pale.” Pro tip: comfy shoes under that tattered hem.\n\nMonster mixes. DJs and performers crank out eerie remixes and big\, body-moving bangers—expect sudden outbreaks of synchronized groaning.\n\nPhoto ops for the graveyard shift. Expect spooky vignettes\, moody lighting\, and backdrops that make your feed scream.\n\nContests & prizes. From “Freshest Corpse” to “Best Couple’s Catastrophe\,” creativity gets rewarded.\n\nBefore you lurch out the door:\nDo your face last. Latex + fake blood look better when you apply after dressing. \nPack light. A tiny crossbody or belt bag keeps hands free for… well\, reaching. \nHydrate like you still have a pulse. Trust us. \nMake it a Davis night: pre-game with a bite (brains optional)\, hit Zombie Ball\, then cool down with late-night treats. And yes\, costumes are encouraged everywhere—Davis loves a theme. \nIt’s Halloween energy at maximum volume—one night only. Grab your coven\, your crew\, or your cleverest couples costume and shuffle over. The living will be jealous. \nHosted by Davis Odd Fellows\nDJ Lineup and Lighting by Davis Rave Co.\nSponsored by Bohéme Clothing & Gifts. Get costumes and props at Bohéme (409 3rd Street) in downtown Davis.\nA percentage of the event proceeds will benefit Thriving Pink in recognition of Breast Cancer Awareness Month.
URL:https://www.sacramentotop10.com/event/davis-zombie-ball/
LOCATION:Davis Odd Fellows Hall\, 415 2nd Street\, Davis\, CA\, United States
CATEGORIES:Davis,Halloween
ATTACH;FMTTYPE=image/png:https://www.sacramentotop10.com/wp-content/uploads/2025/09/Davis-Zombie-Ball.png
END:VEVENT
BEGIN:VEVENT
DTSTART;TZID=America/Los_Angeles:20251024T190000
DTEND;TZID=America/Los_Angeles:20251024T210000
DTSTAMP:20260424T153041
CREATED:20251010T055307Z
LAST-MODIFIED:20251013T132935Z
UID:16370-1761332400-1761339600@www.sacramentotop10.com
SUMMARY:Watermelon Music Haunted House
DESCRIPTION:Looking for Halloween fun without the nightmare fuel?  \nWatermelon Music is opening its doors for a FREE\, all-ages haunted house—a gentle\, music-laced scare that’s perfect for littles\, grandparents\, and everyone in between. \nWhen: 7–9 p.m. on Oct 24\, 25\, 26\, 29 & 30 Where: Watermelon Music (Store)\, Davis\, CA Cost: Free admission! Vibe check: No gore\, no jump-scares. Costumes encouraged. \nWhat makes it special:\n	•	Live (or undead) musicians set the mood with spooky tunes that delight rather than frighten.\n	•	Five Halloween-themed rooms to explore—each with its own playful atmosphere.\n	•	Halloween karaoke (yes\, “Monster Mash” is practically required).\n	•	Mini-pumpkin painting to take home a tiny masterpiece.\n	•	A cheerful photo-op station for your new favorite fall pic. \nWatermelon Music has been part of the Davis community since the 1970s\, known for its non-commercial\, family-first approach\, instrument selection\, lessons\, and repairs. This event is another love letter to the neighborhood—made to bring people together\, not send them running. \nPro tips for a smooth visit\n	•	Come in costume (parents\, too).\n	•	Arrive closer to 7 p.m. for easier flow through the rooms.\n	•	Parking near the store can fill—carpool if you can.\n	•	Bring a small tote for that painted pumpkin and any costume accessories. \nSilly\, seasonal\, and set to music—this is the kind of Halloween stop that becomes a tradition. See you under the friendly cobwebs.
URL:https://www.sacramentotop10.com/event/watermelon-music-haunted-house/
LOCATION:Watermelon Music\, 1970 Lake Blvd\, Davis\, CA\, United States
CATEGORIES:Davis,Halloween
ATTACH;FMTTYPE=image/jpeg:https://www.sacramentotop10.com/wp-content/uploads/2025/10/watermelon-music-haunted-house.jpg
END:VEVENT
END:VCALENDAR