BEGIN:VCALENDAR
VERSION:2.0
PRODID:-//Sacramento Top 10 - ECPv6.15.11//NONSGML v1.0//EN
CALSCALE:GREGORIAN
METHOD:PUBLISH
X-ORIGINAL-URL:https://www.sacramentotop10.com
X-WR-CALDESC:Events for Sacramento Top 10
REFRESH-INTERVAL;VALUE=DURATION:PT1H
X-Robots-Tag:noindex
X-PUBLISHED-TTL:PT1H
BEGIN:VTIMEZONE
TZID:America/Los_Angeles
BEGIN:DAYLIGHT
TZOFFSETFROM:-0800
TZOFFSETTO:-0700
TZNAME:PDT
DTSTART:20240310T100000
END:DAYLIGHT
BEGIN:STANDARD
TZOFFSETFROM:-0700
TZOFFSETTO:-0800
TZNAME:PST
DTSTART:20241103T090000
END:STANDARD
BEGIN:DAYLIGHT
TZOFFSETFROM:-0800
TZOFFSETTO:-0700
TZNAME:PDT
DTSTART:20250309T100000
END:DAYLIGHT
BEGIN:STANDARD
TZOFFSETFROM:-0700
TZOFFSETTO:-0800
TZNAME:PST
DTSTART:20251102T090000
END:STANDARD
BEGIN:DAYLIGHT
TZOFFSETFROM:-0800
TZOFFSETTO:-0700
TZNAME:PDT
DTSTART:20260308T100000
END:DAYLIGHT
BEGIN:STANDARD
TZOFFSETFROM:-0700
TZOFFSETTO:-0800
TZNAME:PST
DTSTART:20261101T090000
END:STANDARD
END:VTIMEZONE
BEGIN:VEVENT
DTSTART;TZID=America/Los_Angeles:20251017T193000
DTEND;TZID=America/Los_Angeles:20251017T213000
DTSTAMP:20260424T140603
CREATED:20250927T163026Z
LAST-MODIFIED:20251015T062730Z
UID:16059-1760729400-1760736600@www.sacramentotop10.com
SUMMARY:Sherlock Holmes vs. Dracula
DESCRIPTION:The Game Is Afoot…in 1894: World Premiere of Sherlock Holmes vs. Dracula\nFog rolls over London\, the violin hums—and the calendar reads 1894. After three years presumed dead at Reichenbach Falls\, Sherlock Holmes returns from his watery legend to face a new nemesis: Count Dracula\, now threatening not only London\, but the world. The world premiere of Sherlock Holmes vs. Dracula at Chautauqua Playhouse runs October 17–November 9\, and it’s a collision of razor logic and immortal hunger. \nThis original new play by local author John E. Lee reimagines the post-Reichenbach comeback as Holmes’s most impossible case. He’s joined by stalwarts Dr. Watson\, Professor Van Helsing\, and the indomitable Mina and Jonathan Harker—a cross-universe alliance that pits observation\, courage\, and folklore against a “client” who casts no reflection. \nExpect Conan Doyle’s crisp wit fused with Stoker’s midnight pulse: mysterious crates\, nocturnal carriages\, crypt-cold clues—and the odd cape sweeping through corners you were sure were empty. The joy of Chautauqua’s intimate space is how close the evidence feels; you’ll catch every glance\, footprint\, and tremor when a crucifix meets the night air. \nDates: Oct 17–Nov 9 • Where: Chautauqua Playhouse • Why go: It’s Holmes’s mind vs. Dracula’s myth—elementary and eldritch at once. Bring a fellow sleuth (or a vampire devotee) and debate afterward whether logic alone can end the Count’s reign—or if the world will need a little garlic\, too.
URL:https://www.sacramentotop10.com/event/sherlock-holmes-vs-dracula/
LOCATION:Chautauqua Playhouse\, 5325 Engle Road #110\, Carmichael\, CA\, United States
CATEGORIES:Carmichael,Halloween
ATTACH;FMTTYPE=image/png:https://www.sacramentotop10.com/wp-content/uploads/2018/07/sherlock-holmes-vs.-dracula-at-the-Chautauqua-Playhouse.png
END:VEVENT
BEGIN:VEVENT
DTSTART;TZID=America/Los_Angeles:20251017T193000
DTEND;TZID=America/Los_Angeles:20251017T213000
DTSTAMP:20260424T140603
CREATED:20250927T163026Z
LAST-MODIFIED:20251015T062730Z
UID:16059-1760729400-1760736600@www.sacramentotop10.com
SUMMARY:Sherlock Holmes vs. Dracula
DESCRIPTION:The Game Is Afoot…in 1894: World Premiere of Sherlock Holmes vs. Dracula\nFog rolls over London\, the violin hums—and the calendar reads 1894. After three years presumed dead at Reichenbach Falls\, Sherlock Holmes returns from his watery legend to face a new nemesis: Count Dracula\, now threatening not only London\, but the world. The world premiere of Sherlock Holmes vs. Dracula at Chautauqua Playhouse runs October 17–November 9\, and it’s a collision of razor logic and immortal hunger. \nThis original new play by local author John E. Lee reimagines the post-Reichenbach comeback as Holmes’s most impossible case. He’s joined by stalwarts Dr. Watson\, Professor Van Helsing\, and the indomitable Mina and Jonathan Harker—a cross-universe alliance that pits observation\, courage\, and folklore against a “client” who casts no reflection. \nExpect Conan Doyle’s crisp wit fused with Stoker’s midnight pulse: mysterious crates\, nocturnal carriages\, crypt-cold clues—and the odd cape sweeping through corners you were sure were empty. The joy of Chautauqua’s intimate space is how close the evidence feels; you’ll catch every glance\, footprint\, and tremor when a crucifix meets the night air. \nDates: Oct 17–Nov 9 • Where: Chautauqua Playhouse • Why go: It’s Holmes’s mind vs. Dracula’s myth—elementary and eldritch at once. Bring a fellow sleuth (or a vampire devotee) and debate afterward whether logic alone can end the Count’s reign—or if the world will need a little garlic\, too.
URL:https://www.sacramentotop10.com/event/sherlock-holmes-vs-dracula/
LOCATION:Chautauqua Playhouse\, 5325 Engle Road #110\, Carmichael\, CA\, United States
CATEGORIES:Carmichael,Halloween
ATTACH;FMTTYPE=image/png:https://www.sacramentotop10.com/wp-content/uploads/2018/07/sherlock-holmes-vs.-dracula-at-the-Chautauqua-Playhouse.png
END:VEVENT
BEGIN:VEVENT
DTSTART;TZID=America/Los_Angeles:20251017T193000
DTEND;TZID=America/Los_Angeles:20251017T213000
DTSTAMP:20260424T140603
CREATED:20250927T163026Z
LAST-MODIFIED:20251015T062730Z
UID:16059-1760729400-1760736600@www.sacramentotop10.com
SUMMARY:Sherlock Holmes vs. Dracula
DESCRIPTION:The Game Is Afoot…in 1894: World Premiere of Sherlock Holmes vs. Dracula\nFog rolls over London\, the violin hums—and the calendar reads 1894. After three years presumed dead at Reichenbach Falls\, Sherlock Holmes returns from his watery legend to face a new nemesis: Count Dracula\, now threatening not only London\, but the world. The world premiere of Sherlock Holmes vs. Dracula at Chautauqua Playhouse runs October 17–November 9\, and it’s a collision of razor logic and immortal hunger. \nThis original new play by local author John E. Lee reimagines the post-Reichenbach comeback as Holmes’s most impossible case. He’s joined by stalwarts Dr. Watson\, Professor Van Helsing\, and the indomitable Mina and Jonathan Harker—a cross-universe alliance that pits observation\, courage\, and folklore against a “client” who casts no reflection. \nExpect Conan Doyle’s crisp wit fused with Stoker’s midnight pulse: mysterious crates\, nocturnal carriages\, crypt-cold clues—and the odd cape sweeping through corners you were sure were empty. The joy of Chautauqua’s intimate space is how close the evidence feels; you’ll catch every glance\, footprint\, and tremor when a crucifix meets the night air. \nDates: Oct 17–Nov 9 • Where: Chautauqua Playhouse • Why go: It’s Holmes’s mind vs. Dracula’s myth—elementary and eldritch at once. Bring a fellow sleuth (or a vampire devotee) and debate afterward whether logic alone can end the Count’s reign—or if the world will need a little garlic\, too.
URL:https://www.sacramentotop10.com/event/sherlock-holmes-vs-dracula/
LOCATION:Chautauqua Playhouse\, 5325 Engle Road #110\, Carmichael\, CA\, United States
CATEGORIES:Carmichael,Halloween
ATTACH;FMTTYPE=image/png:https://www.sacramentotop10.com/wp-content/uploads/2018/07/sherlock-holmes-vs.-dracula-at-the-Chautauqua-Playhouse.png
END:VEVENT
BEGIN:VEVENT
DTSTART;TZID=America/Los_Angeles:20251017T193000
DTEND;TZID=America/Los_Angeles:20251017T213000
DTSTAMP:20260424T140603
CREATED:20250927T163026Z
LAST-MODIFIED:20251015T062730Z
UID:16059-1760729400-1760736600@www.sacramentotop10.com
SUMMARY:Sherlock Holmes vs. Dracula
DESCRIPTION:The Game Is Afoot…in 1894: World Premiere of Sherlock Holmes vs. Dracula\nFog rolls over London\, the violin hums—and the calendar reads 1894. After three years presumed dead at Reichenbach Falls\, Sherlock Holmes returns from his watery legend to face a new nemesis: Count Dracula\, now threatening not only London\, but the world. The world premiere of Sherlock Holmes vs. Dracula at Chautauqua Playhouse runs October 17–November 9\, and it’s a collision of razor logic and immortal hunger. \nThis original new play by local author John E. Lee reimagines the post-Reichenbach comeback as Holmes’s most impossible case. He’s joined by stalwarts Dr. Watson\, Professor Van Helsing\, and the indomitable Mina and Jonathan Harker—a cross-universe alliance that pits observation\, courage\, and folklore against a “client” who casts no reflection. \nExpect Conan Doyle’s crisp wit fused with Stoker’s midnight pulse: mysterious crates\, nocturnal carriages\, crypt-cold clues—and the odd cape sweeping through corners you were sure were empty. The joy of Chautauqua’s intimate space is how close the evidence feels; you’ll catch every glance\, footprint\, and tremor when a crucifix meets the night air. \nDates: Oct 17–Nov 9 • Where: Chautauqua Playhouse • Why go: It’s Holmes’s mind vs. Dracula’s myth—elementary and eldritch at once. Bring a fellow sleuth (or a vampire devotee) and debate afterward whether logic alone can end the Count’s reign—or if the world will need a little garlic\, too.
URL:https://www.sacramentotop10.com/event/sherlock-holmes-vs-dracula/
LOCATION:Chautauqua Playhouse\, 5325 Engle Road #110\, Carmichael\, CA\, United States
CATEGORIES:Carmichael,Halloween
ATTACH;FMTTYPE=image/png:https://www.sacramentotop10.com/wp-content/uploads/2018/07/sherlock-holmes-vs.-dracula-at-the-Chautauqua-Playhouse.png
END:VEVENT
BEGIN:VEVENT
DTSTART;TZID=America/Los_Angeles:20251017T193000
DTEND;TZID=America/Los_Angeles:20251017T213000
DTSTAMP:20260424T140603
CREATED:20250927T163026Z
LAST-MODIFIED:20251015T062730Z
UID:16059-1760729400-1760736600@www.sacramentotop10.com
SUMMARY:Sherlock Holmes vs. Dracula
DESCRIPTION:The Game Is Afoot…in 1894: World Premiere of Sherlock Holmes vs. Dracula\nFog rolls over London\, the violin hums—and the calendar reads 1894. After three years presumed dead at Reichenbach Falls\, Sherlock Holmes returns from his watery legend to face a new nemesis: Count Dracula\, now threatening not only London\, but the world. The world premiere of Sherlock Holmes vs. Dracula at Chautauqua Playhouse runs October 17–November 9\, and it’s a collision of razor logic and immortal hunger. \nThis original new play by local author John E. Lee reimagines the post-Reichenbach comeback as Holmes’s most impossible case. He’s joined by stalwarts Dr. Watson\, Professor Van Helsing\, and the indomitable Mina and Jonathan Harker—a cross-universe alliance that pits observation\, courage\, and folklore against a “client” who casts no reflection. \nExpect Conan Doyle’s crisp wit fused with Stoker’s midnight pulse: mysterious crates\, nocturnal carriages\, crypt-cold clues—and the odd cape sweeping through corners you were sure were empty. The joy of Chautauqua’s intimate space is how close the evidence feels; you’ll catch every glance\, footprint\, and tremor when a crucifix meets the night air. \nDates: Oct 17–Nov 9 • Where: Chautauqua Playhouse • Why go: It’s Holmes’s mind vs. Dracula’s myth—elementary and eldritch at once. Bring a fellow sleuth (or a vampire devotee) and debate afterward whether logic alone can end the Count’s reign—or if the world will need a little garlic\, too.
URL:https://www.sacramentotop10.com/event/sherlock-holmes-vs-dracula/
LOCATION:Chautauqua Playhouse\, 5325 Engle Road #110\, Carmichael\, CA\, United States
CATEGORIES:Carmichael,Halloween
ATTACH;FMTTYPE=image/png:https://www.sacramentotop10.com/wp-content/uploads/2018/07/sherlock-holmes-vs.-dracula-at-the-Chautauqua-Playhouse.png
END:VEVENT
BEGIN:VEVENT
DTSTART;TZID=America/Los_Angeles:20251017T193000
DTEND;TZID=America/Los_Angeles:20251017T213000
DTSTAMP:20260424T140603
CREATED:20250927T163026Z
LAST-MODIFIED:20251015T062730Z
UID:16059-1760729400-1760736600@www.sacramentotop10.com
SUMMARY:Sherlock Holmes vs. Dracula
DESCRIPTION:The Game Is Afoot…in 1894: World Premiere of Sherlock Holmes vs. Dracula\nFog rolls over London\, the violin hums—and the calendar reads 1894. After three years presumed dead at Reichenbach Falls\, Sherlock Holmes returns from his watery legend to face a new nemesis: Count Dracula\, now threatening not only London\, but the world. The world premiere of Sherlock Holmes vs. Dracula at Chautauqua Playhouse runs October 17–November 9\, and it’s a collision of razor logic and immortal hunger. \nThis original new play by local author John E. Lee reimagines the post-Reichenbach comeback as Holmes’s most impossible case. He’s joined by stalwarts Dr. Watson\, Professor Van Helsing\, and the indomitable Mina and Jonathan Harker—a cross-universe alliance that pits observation\, courage\, and folklore against a “client” who casts no reflection. \nExpect Conan Doyle’s crisp wit fused with Stoker’s midnight pulse: mysterious crates\, nocturnal carriages\, crypt-cold clues—and the odd cape sweeping through corners you were sure were empty. The joy of Chautauqua’s intimate space is how close the evidence feels; you’ll catch every glance\, footprint\, and tremor when a crucifix meets the night air. \nDates: Oct 17–Nov 9 • Where: Chautauqua Playhouse • Why go: It’s Holmes’s mind vs. Dracula’s myth—elementary and eldritch at once. Bring a fellow sleuth (or a vampire devotee) and debate afterward whether logic alone can end the Count’s reign—or if the world will need a little garlic\, too.
URL:https://www.sacramentotop10.com/event/sherlock-holmes-vs-dracula/
LOCATION:Chautauqua Playhouse\, 5325 Engle Road #110\, Carmichael\, CA\, United States
CATEGORIES:Carmichael,Halloween
ATTACH;FMTTYPE=image/png:https://www.sacramentotop10.com/wp-content/uploads/2018/07/sherlock-holmes-vs.-dracula-at-the-Chautauqua-Playhouse.png
END:VEVENT
BEGIN:VEVENT
DTSTART;TZID=America/Los_Angeles:20251017T193000
DTEND;TZID=America/Los_Angeles:20251017T213000
DTSTAMP:20260424T140603
CREATED:20250927T163026Z
LAST-MODIFIED:20251015T062730Z
UID:16059-1760729400-1760736600@www.sacramentotop10.com
SUMMARY:Sherlock Holmes vs. Dracula
DESCRIPTION:The Game Is Afoot…in 1894: World Premiere of Sherlock Holmes vs. Dracula\nFog rolls over London\, the violin hums—and the calendar reads 1894. After three years presumed dead at Reichenbach Falls\, Sherlock Holmes returns from his watery legend to face a new nemesis: Count Dracula\, now threatening not only London\, but the world. The world premiere of Sherlock Holmes vs. Dracula at Chautauqua Playhouse runs October 17–November 9\, and it’s a collision of razor logic and immortal hunger. \nThis original new play by local author John E. Lee reimagines the post-Reichenbach comeback as Holmes’s most impossible case. He’s joined by stalwarts Dr. Watson\, Professor Van Helsing\, and the indomitable Mina and Jonathan Harker—a cross-universe alliance that pits observation\, courage\, and folklore against a “client” who casts no reflection. \nExpect Conan Doyle’s crisp wit fused with Stoker’s midnight pulse: mysterious crates\, nocturnal carriages\, crypt-cold clues—and the odd cape sweeping through corners you were sure were empty. The joy of Chautauqua’s intimate space is how close the evidence feels; you’ll catch every glance\, footprint\, and tremor when a crucifix meets the night air. \nDates: Oct 17–Nov 9 • Where: Chautauqua Playhouse • Why go: It’s Holmes’s mind vs. Dracula’s myth—elementary and eldritch at once. Bring a fellow sleuth (or a vampire devotee) and debate afterward whether logic alone can end the Count’s reign—or if the world will need a little garlic\, too.
URL:https://www.sacramentotop10.com/event/sherlock-holmes-vs-dracula/
LOCATION:Chautauqua Playhouse\, 5325 Engle Road #110\, Carmichael\, CA\, United States
CATEGORIES:Carmichael,Halloween
ATTACH;FMTTYPE=image/png:https://www.sacramentotop10.com/wp-content/uploads/2018/07/sherlock-holmes-vs.-dracula-at-the-Chautauqua-Playhouse.png
END:VEVENT
BEGIN:VEVENT
DTSTART;TZID=America/Los_Angeles:20251017T193000
DTEND;TZID=America/Los_Angeles:20251017T213000
DTSTAMP:20260424T140603
CREATED:20250927T163026Z
LAST-MODIFIED:20251015T062730Z
UID:16059-1760729400-1760736600@www.sacramentotop10.com
SUMMARY:Sherlock Holmes vs. Dracula
DESCRIPTION:The Game Is Afoot…in 1894: World Premiere of Sherlock Holmes vs. Dracula\nFog rolls over London\, the violin hums—and the calendar reads 1894. After three years presumed dead at Reichenbach Falls\, Sherlock Holmes returns from his watery legend to face a new nemesis: Count Dracula\, now threatening not only London\, but the world. The world premiere of Sherlock Holmes vs. Dracula at Chautauqua Playhouse runs October 17–November 9\, and it’s a collision of razor logic and immortal hunger. \nThis original new play by local author John E. Lee reimagines the post-Reichenbach comeback as Holmes’s most impossible case. He’s joined by stalwarts Dr. Watson\, Professor Van Helsing\, and the indomitable Mina and Jonathan Harker—a cross-universe alliance that pits observation\, courage\, and folklore against a “client” who casts no reflection. \nExpect Conan Doyle’s crisp wit fused with Stoker’s midnight pulse: mysterious crates\, nocturnal carriages\, crypt-cold clues—and the odd cape sweeping through corners you were sure were empty. The joy of Chautauqua’s intimate space is how close the evidence feels; you’ll catch every glance\, footprint\, and tremor when a crucifix meets the night air. \nDates: Oct 17–Nov 9 • Where: Chautauqua Playhouse • Why go: It’s Holmes’s mind vs. Dracula’s myth—elementary and eldritch at once. Bring a fellow sleuth (or a vampire devotee) and debate afterward whether logic alone can end the Count’s reign—or if the world will need a little garlic\, too.
URL:https://www.sacramentotop10.com/event/sherlock-holmes-vs-dracula/
LOCATION:Chautauqua Playhouse\, 5325 Engle Road #110\, Carmichael\, CA\, United States
CATEGORIES:Carmichael,Halloween
ATTACH;FMTTYPE=image/png:https://www.sacramentotop10.com/wp-content/uploads/2018/07/sherlock-holmes-vs.-dracula-at-the-Chautauqua-Playhouse.png
END:VEVENT
BEGIN:VEVENT
DTSTART;TZID=America/Los_Angeles:20251017T193000
DTEND;TZID=America/Los_Angeles:20251017T213000
DTSTAMP:20260424T140603
CREATED:20250927T163026Z
LAST-MODIFIED:20251015T062730Z
UID:16059-1760729400-1760736600@www.sacramentotop10.com
SUMMARY:Sherlock Holmes vs. Dracula
DESCRIPTION:The Game Is Afoot…in 1894: World Premiere of Sherlock Holmes vs. Dracula\nFog rolls over London\, the violin hums—and the calendar reads 1894. After three years presumed dead at Reichenbach Falls\, Sherlock Holmes returns from his watery legend to face a new nemesis: Count Dracula\, now threatening not only London\, but the world. The world premiere of Sherlock Holmes vs. Dracula at Chautauqua Playhouse runs October 17–November 9\, and it’s a collision of razor logic and immortal hunger. \nThis original new play by local author John E. Lee reimagines the post-Reichenbach comeback as Holmes’s most impossible case. He’s joined by stalwarts Dr. Watson\, Professor Van Helsing\, and the indomitable Mina and Jonathan Harker—a cross-universe alliance that pits observation\, courage\, and folklore against a “client” who casts no reflection. \nExpect Conan Doyle’s crisp wit fused with Stoker’s midnight pulse: mysterious crates\, nocturnal carriages\, crypt-cold clues—and the odd cape sweeping through corners you were sure were empty. The joy of Chautauqua’s intimate space is how close the evidence feels; you’ll catch every glance\, footprint\, and tremor when a crucifix meets the night air. \nDates: Oct 17–Nov 9 • Where: Chautauqua Playhouse • Why go: It’s Holmes’s mind vs. Dracula’s myth—elementary and eldritch at once. Bring a fellow sleuth (or a vampire devotee) and debate afterward whether logic alone can end the Count’s reign—or if the world will need a little garlic\, too.
URL:https://www.sacramentotop10.com/event/sherlock-holmes-vs-dracula/
LOCATION:Chautauqua Playhouse\, 5325 Engle Road #110\, Carmichael\, CA\, United States
CATEGORIES:Carmichael,Halloween
ATTACH;FMTTYPE=image/png:https://www.sacramentotop10.com/wp-content/uploads/2018/07/sherlock-holmes-vs.-dracula-at-the-Chautauqua-Playhouse.png
END:VEVENT
BEGIN:VEVENT
DTSTART;TZID=America/Los_Angeles:20251017T193000
DTEND;TZID=America/Los_Angeles:20251017T213000
DTSTAMP:20260424T140603
CREATED:20250927T163026Z
LAST-MODIFIED:20251015T062730Z
UID:16059-1760729400-1760736600@www.sacramentotop10.com
SUMMARY:Sherlock Holmes vs. Dracula
DESCRIPTION:The Game Is Afoot…in 1894: World Premiere of Sherlock Holmes vs. Dracula\nFog rolls over London\, the violin hums—and the calendar reads 1894. After three years presumed dead at Reichenbach Falls\, Sherlock Holmes returns from his watery legend to face a new nemesis: Count Dracula\, now threatening not only London\, but the world. The world premiere of Sherlock Holmes vs. Dracula at Chautauqua Playhouse runs October 17–November 9\, and it’s a collision of razor logic and immortal hunger. \nThis original new play by local author John E. Lee reimagines the post-Reichenbach comeback as Holmes’s most impossible case. He’s joined by stalwarts Dr. Watson\, Professor Van Helsing\, and the indomitable Mina and Jonathan Harker—a cross-universe alliance that pits observation\, courage\, and folklore against a “client” who casts no reflection. \nExpect Conan Doyle’s crisp wit fused with Stoker’s midnight pulse: mysterious crates\, nocturnal carriages\, crypt-cold clues—and the odd cape sweeping through corners you were sure were empty. The joy of Chautauqua’s intimate space is how close the evidence feels; you’ll catch every glance\, footprint\, and tremor when a crucifix meets the night air. \nDates: Oct 17–Nov 9 • Where: Chautauqua Playhouse • Why go: It’s Holmes’s mind vs. Dracula’s myth—elementary and eldritch at once. Bring a fellow sleuth (or a vampire devotee) and debate afterward whether logic alone can end the Count’s reign—or if the world will need a little garlic\, too.
URL:https://www.sacramentotop10.com/event/sherlock-holmes-vs-dracula/
LOCATION:Chautauqua Playhouse\, 5325 Engle Road #110\, Carmichael\, CA\, United States
CATEGORIES:Carmichael,Halloween
ATTACH;FMTTYPE=image/png:https://www.sacramentotop10.com/wp-content/uploads/2018/07/sherlock-holmes-vs.-dracula-at-the-Chautauqua-Playhouse.png
END:VEVENT
BEGIN:VEVENT
DTSTART;TZID=America/Los_Angeles:20251017T193000
DTEND;TZID=America/Los_Angeles:20251017T213000
DTSTAMP:20260424T140603
CREATED:20250927T163026Z
LAST-MODIFIED:20251015T062730Z
UID:16059-1760729400-1760736600@www.sacramentotop10.com
SUMMARY:Sherlock Holmes vs. Dracula
DESCRIPTION:The Game Is Afoot…in 1894: World Premiere of Sherlock Holmes vs. Dracula\nFog rolls over London\, the violin hums—and the calendar reads 1894. After three years presumed dead at Reichenbach Falls\, Sherlock Holmes returns from his watery legend to face a new nemesis: Count Dracula\, now threatening not only London\, but the world. The world premiere of Sherlock Holmes vs. Dracula at Chautauqua Playhouse runs October 17–November 9\, and it’s a collision of razor logic and immortal hunger. \nThis original new play by local author John E. Lee reimagines the post-Reichenbach comeback as Holmes’s most impossible case. He’s joined by stalwarts Dr. Watson\, Professor Van Helsing\, and the indomitable Mina and Jonathan Harker—a cross-universe alliance that pits observation\, courage\, and folklore against a “client” who casts no reflection. \nExpect Conan Doyle’s crisp wit fused with Stoker’s midnight pulse: mysterious crates\, nocturnal carriages\, crypt-cold clues—and the odd cape sweeping through corners you were sure were empty. The joy of Chautauqua’s intimate space is how close the evidence feels; you’ll catch every glance\, footprint\, and tremor when a crucifix meets the night air. \nDates: Oct 17–Nov 9 • Where: Chautauqua Playhouse • Why go: It’s Holmes’s mind vs. Dracula’s myth—elementary and eldritch at once. Bring a fellow sleuth (or a vampire devotee) and debate afterward whether logic alone can end the Count’s reign—or if the world will need a little garlic\, too.
URL:https://www.sacramentotop10.com/event/sherlock-holmes-vs-dracula/
LOCATION:Chautauqua Playhouse\, 5325 Engle Road #110\, Carmichael\, CA\, United States
CATEGORIES:Carmichael,Halloween
ATTACH;FMTTYPE=image/png:https://www.sacramentotop10.com/wp-content/uploads/2018/07/sherlock-holmes-vs.-dracula-at-the-Chautauqua-Playhouse.png
END:VEVENT
BEGIN:VEVENT
DTSTART;TZID=America/Los_Angeles:20251017T193000
DTEND;TZID=America/Los_Angeles:20251017T213000
DTSTAMP:20260424T140603
CREATED:20250927T163026Z
LAST-MODIFIED:20251015T062730Z
UID:16059-1760729400-1760736600@www.sacramentotop10.com
SUMMARY:Sherlock Holmes vs. Dracula
DESCRIPTION:The Game Is Afoot…in 1894: World Premiere of Sherlock Holmes vs. Dracula\nFog rolls over London\, the violin hums—and the calendar reads 1894. After three years presumed dead at Reichenbach Falls\, Sherlock Holmes returns from his watery legend to face a new nemesis: Count Dracula\, now threatening not only London\, but the world. The world premiere of Sherlock Holmes vs. Dracula at Chautauqua Playhouse runs October 17–November 9\, and it’s a collision of razor logic and immortal hunger. \nThis original new play by local author John E. Lee reimagines the post-Reichenbach comeback as Holmes’s most impossible case. He’s joined by stalwarts Dr. Watson\, Professor Van Helsing\, and the indomitable Mina and Jonathan Harker—a cross-universe alliance that pits observation\, courage\, and folklore against a “client” who casts no reflection. \nExpect Conan Doyle’s crisp wit fused with Stoker’s midnight pulse: mysterious crates\, nocturnal carriages\, crypt-cold clues—and the odd cape sweeping through corners you were sure were empty. The joy of Chautauqua’s intimate space is how close the evidence feels; you’ll catch every glance\, footprint\, and tremor when a crucifix meets the night air. \nDates: Oct 17–Nov 9 • Where: Chautauqua Playhouse • Why go: It’s Holmes’s mind vs. Dracula’s myth—elementary and eldritch at once. Bring a fellow sleuth (or a vampire devotee) and debate afterward whether logic alone can end the Count’s reign—or if the world will need a little garlic\, too.
URL:https://www.sacramentotop10.com/event/sherlock-holmes-vs-dracula/
LOCATION:Chautauqua Playhouse\, 5325 Engle Road #110\, Carmichael\, CA\, United States
CATEGORIES:Carmichael,Halloween
ATTACH;FMTTYPE=image/png:https://www.sacramentotop10.com/wp-content/uploads/2018/07/sherlock-holmes-vs.-dracula-at-the-Chautauqua-Playhouse.png
END:VEVENT
END:VCALENDAR